BEGIN:VCALENDAR
VERSION:2.0
PRODID:-//Gemeinde Wittorf - ECPv6.15.20//NONSGML v1.0//EN
CALSCALE:GREGORIAN
METHOD:PUBLISH
X-ORIGINAL-URL:https://gemeinde-wittorf.de
X-WR-CALDESC:Veranstaltungen für Gemeinde Wittorf
REFRESH-INTERVAL;VALUE=DURATION:PT1H
X-Robots-Tag:noindex
X-PUBLISHED-TTL:PT1H
BEGIN:VTIMEZONE
TZID:Europe/Berlin
BEGIN:DAYLIGHT
TZOFFSETFROM:+0100
TZOFFSETTO:+0200
TZNAME:CEST
DTSTART:20250330T010000
END:DAYLIGHT
BEGIN:STANDARD
TZOFFSETFROM:+0200
TZOFFSETTO:+0100
TZNAME:CET
DTSTART:20251026T010000
END:STANDARD
BEGIN:DAYLIGHT
TZOFFSETFROM:+0100
TZOFFSETTO:+0200
TZNAME:CEST
DTSTART:20260329T010000
END:DAYLIGHT
BEGIN:STANDARD
TZOFFSETFROM:+0200
TZOFFSETTO:+0100
TZNAME:CET
DTSTART:20261025T010000
END:STANDARD
BEGIN:DAYLIGHT
TZOFFSETFROM:+0100
TZOFFSETTO:+0200
TZNAME:CEST
DTSTART:20270328T010000
END:DAYLIGHT
BEGIN:STANDARD
TZOFFSETFROM:+0200
TZOFFSETTO:+0100
TZNAME:CET
DTSTART:20271031T010000
END:STANDARD
END:VTIMEZONE
BEGIN:VEVENT
DTSTART;TZID=Europe/Berlin:20260304T193000
DTEND;TZID=Europe/Berlin:20260304T200000
DTSTAMP:20260420T121243
CREATED:20260223T073942Z
LAST-MODIFIED:20260223T074246Z
UID:3402-1772652600-1772654400@gemeinde-wittorf.de
SUMMARY:Öffentliche Ratssitzung der Gemeinde Wittorf am 04. März 2026
DESCRIPTION:Am 04.03.2026 findet um 19:30 Uhr in der Bewegungshalle (Tagungsraum 2) in Wittorf eine öffentliche Ratssitzung der Gemeinde Wittorf statt. Bürgerinnen und Bürger sind herzlich eingeladen \nAuf der Tagesordnung stehen unter anderem die Eröffnung der Sitzung\, die Feststellung der Beschlussfähigkeit sowie zwei Einwohnerfragestunden. Inhaltliche Schwerpunkte sind mehrere Beschlüsse zu Haushaltsangelegenheiten\, darunter Haushaltsanträge und Zuwendungsanträge von Vereinen und Verbänden sowie die Haushaltsatzung und der Haushaltsplan. Zudem soll über eine Dienstanweisung zur Vergabe öffentlicher Aufträge unterhalb der Schwellenwerte des NTVergG entschieden werden. Abschließend folgen Mitteilungen des Bürgermeisters sowie Anfragen und Anregungen der Ratsmitglieder. \n2026-02-18 Öffentl. Bekanntmachung – Ratssitzung Wittorf 04.03.2026
URL:https://gemeinde-wittorf.de/termine/oeffentliche-ratssitzung-der-gemeinde-wittorf-am-04-maerz-2026/
LOCATION:Niedersachsen
CATEGORIES:Termine in Wittorf
ATTACH;FMTTYPE=image/png:https://gemeinde-wittorf.de/wp-content/uploads/ChatGPT-Image-23.-Feb.-2026-08_42_14.png
END:VEVENT
END:VCALENDAR